Workbook

Sheet  Sažetak
A2: PRORAČUN JEDINICE LOKALNE I PODRUČNE (REGIONALNE) SAMOUPRAVE/ FINANCIJSKI PLAN PRORAČUNSKOG KORISNIKA JEDINICE LOKALNE I PODRUČNE (REGIONALNE) SAMOUPRAVE ZA GODINU 2027 I PROJEKCIJE ZA GODINU 2028 I 2029
A4: I. OPĆI DIO
A6: A) SAŽETAK RAČUNA PRIHODA I RASHODA
A8: RAZRED I NAZIV | F8: Ostvarenje 2025. | G8: Plan 2026. | H8: Plan 2027. | I8: Projekcija 2028. | J8: Projekcija 2029.
A9: 1 | F9: 2 | G9: 3 | H9: 4 | I9: 5 | J9: 6
A10: PRIHODI UKUPNO | F10: =F11+F12 -> 3450108.1 | G10: =G11+G12 -> 5278194.1 | H10: =H11+H12 -> 5410000 | I10: =I11+I12 -> 5800000 | J10: =J11+J12 -> 4960000
A11: 6 PRIHODI POSLOVANJA | F11: =' Račun prihoda i rashoda'!B7 -> 3398308.1 | G11: =' Račun prihoda i rashoda'!C7 -> 5278194.1 | H11: =' Račun prihoda i rashoda'!D7 -> 5358632 | I11: =' Račun prihoda i rashoda'!E7 -> 5800000 | J11: =' Račun prihoda i rashoda'!F7 -> 4908200
A12: 7 PRIHODI OD PRODAJE NEFINANCIJSKE IMOVINE | F12: =' Račun prihoda i rashoda'!B13 -> 51800 | G12: =' Račun prihoda i rashoda'!C13 -> 0 | H12: =' Račun prihoda i rashoda'!D13 -> 51368 | I12: =' Račun prihoda i rashoda'!E13 -> 0 | J12: =' Račun prihoda i rashoda'!F13 -> 51800
A13: RASHODI UKUPNO | F13: =F14+F15 -> 3772475.8 | G13: =G14+G15 -> 4955816 | H13: =H14+H15 -> 5410000 | I13: =I14+I15 -> 5800000 | J13: =J14+J15 -> 4960000
A14: 3 RASHODI POSLOVANJA | F14: =' Račun prihoda i rashoda'!B16 -> 3726714.6 | G14: =' Račun prihoda i rashoda'!C16 -> 4687471 | H14: =' Račun prihoda i rashoda'!D16 -> 5138632 | I14: =' Račun prihoda i rashoda'!E16 -> 5505000 | J14: =' Račun prihoda i rashoda'!F16 -> 4691655
A15: 4 RASHODI ZA NABAVU NEFINANCIJSKE IMOVINE | F15: =' Račun prihoda i rashoda'!B20 -> 45761.14 | G15: =' Račun prihoda i rashoda'!C20 -> 268345 | H15: =' Račun prihoda i rashoda'!D20 -> 271368 | I15: =' Račun prihoda i rashoda'!E20 -> 295000 | J15: =' Račun prihoda i rashoda'!F20 -> 268345
A16: RAZLIKA - VIŠAK / MANJAK | F16: =F10-F13 -> -322367.67 | G16: =G10-G13 -> 322378.08 | H16: =H10-H13 -> 0 | I16: =I10-I13 -> 0 | J16: =J10-J13 -> 0
A18: B) SAŽETAK RAČUNA FINANCIRANJA
A20: RAZRED I NAZIV | F20: Ostvarenje 2025. | G20: Plan 2026. | H20: Plan 2027. | I20: Projekcija 2028. | J20: Projekcija 2029.
A21: 1 | F21: 2 | G21: 3 | H21: 4 | I21: 5 | J21: 6
A22: 8 PRIMICI OD FINANCIJSKE IMOVINE I ZADUŽIVANJA | F22: 0 | G22: 0 | H22: 0 | I22: 0 | J22: 0
A23: 5 IZDACI ZA FINANCIJSKU IMOVINU I OTPLATE ZAJMOVA | F23: 0 | G23: 0 | H23: 0 | I23: 0 | J23: 0
A24: NETO FINANCIRANJE | F24: =F22-F23 -> 0 | G24: =G22-G23 -> 0 | H24: =H22-H23 -> 0 | I24: =I22-I23 -> 0 | J24: =J22-J23 -> 0
A25: VIŠAK / MANJAK + NETO FINANCIRANJE | F25: =F16+F24 -> -322367.67 | G25: =G16+G24 -> 322378.08 | H25: =H16+H24 -> 0 | I25: =I16+I24 -> 0 | J25: =J16+J24 -> 0
A27: C) PRENESENI VIŠAK ILI PRENESENI MANJAK
A29: NAZIV | F29: Ostvarenje 2025. | G29: Plan 2026. | H29: Plan 2027. | I29: Projekcija 2028. | J29: Projekcija 2029.
A30: 1 | F30: 2 | G30: 3 | H30: 4 | I30: 5 | J30: 6
A31: PRIJENOS VIŠKA / MANJKA IZ PRETHODNE(IH) GODINE | F31: =' Račun prihoda i rashoda'!B24 -> 873709 | G31: =' Račun prihoda i rashoda'!C24 -> -322378.08 | H31: =' Račun prihoda i rashoda'!D24 -> 0 | I31: =' Račun prihoda i rashoda'!E24 -> 0 | J31: =' Račun prihoda i rashoda'!F24 -> 0
A32: PRIJENOS VIŠKA / MANJKA U SLJEDEĆE RAZDOBLJE | F32: =F25+F31 -> 551341.33 | G32: =G25+G31 -> 0 | H32: =H25+H31 -> 0 | I32: =I25+I31 -> 0 | J32: =J25+J31 -> 0
A33: VIŠAK / MANJAK + NETO FINANCIRANJE + PRIJENOS VIŠKA / MANJKA IZ PRETHODNE(IH) GODINE - PRIJENOS VIŠKA / MANJKA U SLJEDEĆE RAZDOBLJE | F33: =F16+F24+F31-F32 -> 0 | G33: =G16+G24+G31-G32 -> 5.8207661e-11 | H33: =H16+H24+H31-H32 -> 0 | I33: =I16+I24+I31-I32 -> 0 | J33: =J16+J24+J31-J32 -> 0
A35: D) VIŠEGODIŠNJI PLAN URAVNOTEŽENJA
A37: NAZIV | F37: Ostvarenje 2025. | G37: Plan 2026. | H37: Plan 2027. | I37: Projekcija 2028. | J37: Projekcija 2029.
A38: 1 | F38: 2 | G38: 3 | H38: 4 | I38: 5 | J38: 6
A39: PRIJENOS VIŠKA / MANJKA IZ PRETHODNE(IH) GODINE | F39: 0 | G39: =F42 -> 0 | H39: =G42 -> 0 | I39: =H42 -> 0 | J39: =I42 -> 0
A40: VIŠAK / MANJAK IZ PRETHODNE(IH) GODINE KOJI ĆE SE RASPOREDITI / POKRITI | F40: 0 | G40: 0 | H40: 0 | I40: 0 | J40: 0
A41: VIŠAK / MANJAK TEKUĆE GODINE (VIŠAK / MANJAK + NETO FINANCIRANJE) | F41: 0 | G41: 0 | H41: 0 | I41: 0 | J41: 0
A42: PRIJENOS VIŠKA / MANJKA U SLJEDEĆE RAZDOBLJE | F42: =F39-F40+F41 -> 0 | G42: =G39-G40+G41 -> 0 | H42: =H39-H40+H41 -> 0 | I42: =I39-I40+I41 -> 0 | J42: =J39-J40+J41 -> 0

Sheet  Račun prihoda i rashoda
A1: A. RAČUN PRIHODA I RASHODA
A2: A1. PRIHODI I RASHODI PREMA EKONOMSKOJ KLASIFIKACIJI
A4: Oznaka | B4: Ostvarenje 2025. | C4: Plan 2026. | D4: Plan 2027. | E4: Projekcija 2028. | F4: Projekcija 2029.
A5: 1 | B5: 2 | C5: 3 | D5: 4 | E5: 5 | F5: 6
A6: A. RAČUN PRIHODA I RASHODA
A7: 6 Prihodi poslovanja | B7: 3398308.1 | C7: 5278194.1 | D7: 5358632 | E7: 5800000 | F7: 4908200
A8: 63 Pomoći iz inozemstva i od subjekata unutar općeg proračuna | B8: 420239.44 | C8: 539817 | D8: 612132 | E8: 600000 | F8: 489683
A9: 65 Prihodi od upravnih i administrativnih pristojbi, pristojbi po posebnim propisima i naknada | B9: 134669.81 | C9: 155865.67 | D9: 160000 | E9: 194700 | F9: 154000
A10: 66 Prihodi od prodaje proizvoda i robe te pruženih usluga i prihodi od donacija te povrati po protestiranim jamstvima | B10: 863889.93 | C10: 931847.27 | D10: 1447000 | E10: 1820000 | F10: 1209272
A11: 67 Prihodi iz nadležnog proračuna i od HZZO-a temeljem ugovornih obveza | B11: 1968725 | C11: 3648010.1 | D11: 3136500 | E11: 3182300 | F11: 3052591
A12: 68 Kazne, upravne mjere i ostali prihodi | B12: 10783.9 | C12: 2654 | D12: 3000 | E12: 3000 | F12: 2654
A13: 7 Prihodi od prodaje nefinancijske imovine | B13: 51800 | C13: 0 | D13: 51368 | E13: 0 | F13: 51800
A14: 72 Prihodi od prodaje proizvedene dugotrajne imovine | B14: 51800 | C14: 0 | D14: 51368 | E14: 0 | F14: 51800
A15: SVEUKUPNO PRIHODI | B15: 3450108.1 | C15: 5278194.1 | D15: 5410000 | E15: 5800000 | F15: 4960000
A16: 3 Rashodi poslovanja | B16: 3726714.6 | C16: 4687471 | D16: 5138632 | E16: 5505000 | F16: 4691655
A17: 31 Rashodi za zaposlene | B17: 2613277.4 | C17: 3193835 | D17: 3512700 | E17: 3669700 | F17: 3194783
A18: 32 Materijalni rashodi | B18: 1110669.4 | C18: 1483682 | D18: 1612932 | E18: 1825000 | F18: 1486918
... A21: 42 Rashodi za nabavu proizvedene dugotrajne imovine | B21: 45761.14 | C21: 238345 | D21: 231368 | E21: 195000 | F21: 238345
A22: 45 Rashodi za dodatna ulaganja na nefinancijskoj imovini | B22: 0 | C22: 30000 | D22: 40000 | E22: 100000 | F22: 30000 | G22: =F23-F7 -> 51800
A23: SVEUKUPNO RASHODI | B23: 3772475.8 | C23: 4955816 | D23: 5410000 | E23: 5800000 | F23: 4960000
A24: NEUTROŠENA SREDSTVA IZ PRETHODNIH GODINA | B24: =B25 -> 873709 | C24: =C25 -> -322378.08 | D24: =D25 -> 0 | E24: =E25 -> 0 | F24: =F25 -> 0
A25: 9 Vlastiti izvori | B25: =B26 -> 873709 | C25: =C26 -> -322378.08 | D25: =D26 -> 0 | E25: =E26 -> 0 | F25: =F26 -> 0
A26: 92 Rezultat poslovanja | B26: 873709 | C26: -322378.08 | D26: 0 | E26: 0 | F26: 0
A27: SVEUKUPNO PRIHODI I NEUTROŠENA SREDSTVA | B27: =B15+B24 -> 4323817.1 | C27: =C15+C24 -> 4955816 | D27: =D15+D24 -> 5410000 | E27: =E15+E24 -> 5800000 | F27: =F15+F24 -> 4960000
A29: A2. PRIHODI I RASHODI PREMA IZVORIMA FINANCIRANJA
A31: Razred/ skupina/ Naziv | B31: Ostvarenje 2025. | C31: Plan 2026. | D31: Plan 2027. | E31: Projekcija 2028. | F31: Projekcija 2029.
A32: 1 | B32: 2 | C32: 3 | D32: 4 | E32: 5 | F32: 6
A33: UKUPNO PRIHODI | B33: =SUM(B34:B39) -> 4323817.1 | C33: =SUM(C34:C39) -> 4955816 | D33: =SUM(D34:D39) -> 5410000 | E33: =SUM(E34:E39) -> 5800000 | F33: =SUM(F34:F39) -> 4960000
A34: izvor: 11 Opći prihodi i primici | B34: 31474.29 | C34: 0 | D34: 0 | E34: 0 | F34: 0
A35: izvor: 31 Vlastiti prihodi | B35: 1400162.8 | C35: 1211926 | D35: 1450000 | E35: 1823000 | F35: 1211926
A36: izvor: 43 Ostali prihodi za posebne namjene | B36: 2256645.2 | C36: 3006526.6 | D36: 3269900 | E36: 3337000 | F36: 3160491
A37: izvor: 50 Pomoći | B37: 564236.75 | C37: 535563.4 | D37: 538732 | E37: 640000 | F37: 535783
A38: izvor: 58 Instrumenti EU nove generacije | B38: 0 | C38: 150000 | D38: 100000 | E38: 0 | F38: 0
A39: izvor: 71 Prihodi od prodaje ili zamjene nefinancijske imovine i naknade s naslova osiguranja | B39: 71298 | C39: 51800 | D39: 51368 | E39: 0 | F39: 51800
A40: UKUPNO RASHODI | B40: 3772475.8 | C40: 4955816 | D40: 5410000 | E40: 5800000 | F40: 4960000
A41: izvor: 11 Opći prihodi i primici | B41: 28262.53 | C41: 0 | D41: 0 | E41: 0 | F41: 0
A42: izvor: 31 Vlastiti prihodi | B42: 597238.69 | C42: 1211926 | D42: 1450000 | E42: 1823000 | F42: 1211926
A43: izvor: 43 Ostali prihodi za posebne namjene | B43: 2803805.2 | C43: 3006526.6 | D43: 3269900 | E43: 3337000 | F43: 3160491
A44: izvor: 50 Pomoći | B44: 343169.35 | C44: 535563.4 | D44: 538732 | E44: 640000 | F44: 535783
A45: izvor: 58 Instrumenti EU nove generacije | B45: 0 | C45: 150000 | D45: 100000 | E45: 0 | F45: 0
A46: izvor: 71 Prihodi od prodaje ili zamjene nefinancijske imovine i naknade s naslova osiguranja | B46: 0 | C46: 51800 | D46: 51368 | E46: 0 | F46: 51800
A48: A3. RASHODI PREMA FUNKCIJSKOJ KLASIFIKACIJI
A50: Razred/ skupina/ Naziv | B50: Ostvarenje 2025. | C50: Plan 2026. | D50: Plan 2027. | E50: Projekcija 2028. | F50: Projekcija 2029.
A51: 1 | B51: 2 | C51: 3 | D51: 4 | E51: 5 | F51: 6
A52: UKUPNO RASHODI | B52: 3772475.8 | C52: 4955816 | D52: 5410000 | E52: 5800000 | F52: 4960000
A53: 07 ZDRAVSTVO | B53: 3772475.8 | C53: 4955816 | D53: 5410000 | E53: 5800000 | F53: 4960000
A54: 071 Medicinski proizvodi, pribor i oprema | B54: 22611.9 | C54: 0 | D54: 0 | E54: 0 | F54: 0
A55: 074 SluŽbe javnog zdravstva | B55: 3401043.9 | C55: 4186317 | D55: 4677868 | E55: 5000000 | F55: 4340317
A56: 076 Poslovi i usluge zdravstva koji nisu drugdje svrstani | B56: 348819.98 | C56: 769498.99 | D56: 732132 | E56: 800000 | F56: 619683

Sheet  Račun financiranja
A2: B. RAČUN FINANCIRANJA
A4: B1. RAČUN FINANCIRANJA PREMA EKONOMSKOJ KLASIFIKACIJI
A6: Razred/ skupina | B6: NAZIV | C6: Ostvarenje 2025. | D6: Plan 2026. | E6: Plan 2027. | F6: Projekcija 2028. | G6: Projekcija 2029.
A7: 1 | B7: 2 | C7: 3 | D7: 4 | E7: 5 | F7: 6 | G7: 7
A8: 8 | B8: Primici od financijske imovine i zaduživanja | C8: 0 | D8: 0 | E8: 0 | F8: 0 | G8: 0
A9: 84 | B9: Primici od zaduživanja | C9: 0 | D9: 0 | E9: 0 | F9: 0 | G9: 0
A10: 5 | B10: Izdaci za financijsku imovinu i otplate zajmova | C10: 0 | D10: 0 | E10: 0 | F10: 0 | G10: 0
A11: 54 | B11: Izdaci za otplatu glavnice primljenih kredita i zajmova | C11: 0 | D11: 0 | E11: 0 | F11: 0 | G11: 0
B14: B2. RAČUN FINANCIRANJA PREMA IZVORIMA FINANCIRANJA
A16: Razred/ skupina | B16: NAZIV | C16: Ostvarenje 2025. | D16: Plan 2026. | E16: Plan 2027. | F16: Projekcija 2028. | G16: Projekcija 2029.
A17: 1 | B17: 2 | C17: 3 | D17: 4 | E17: 5 | F17: 6 | G17: 7
A18: 8 | B18: Namjenski primici | C18: 0 | D18: 0 | E18: 0 | F18: 0 | G18: 0
A19: 81 | B19: Namjenski primici od zaduživanja | C19: 0 | D19: 0 | E19: 0 | F19: 0 | G19: 0
B20: UKUPNO IZDACI | C20: 0 | D20: 0 | E20: 0 | F20: 0 | G20: 0
A21: 1 | B21: Opći prihodi i primici | C21: 0 | D21: 0 | E21: 0 | F21: 0 | G21: 0
A22: 11 | B22: Opći prihodi i primici | C22: 0 | D22: 0 | E22: 0 | F22: 0 | G22: 0

Sheet posebni dio
A1: B3. POSEBNI DIO
A3: Oznaka | B3: Ostvarenje 2025. | C3: Plan 2026. | D3: Plan 2027. | E3: Projekcija 2028. | F3: Projekcija 2029.
A4: 1 | B4: 2 | C4: 3 | D4: 4 | E4: 5 | F4: 6
A5: SVEUKUPNO | B5: 3772475.8 | C5: 4955816 | D5: 5410000 | E5: 5800000 | F5: 4960000
A6: RAZDJEL: 003 Upravni odjel za društvene djelatnosti | B6: 3772475.8 | C6: 4955816 | D6: 5410000 | E6: 5800000 | F6: 4960000
A7: GLAVA: 00338 ZAVOD ZA JAVNO ZDRAVSTVO KARLOVAČKE ŽUPANIJE | B7: 3772475.8 | C7: 4955816 | D7: 5410000 | E7: 5800000 | F7: 4960000
A8: 129 Zakonski standardi u zdravstvu | B8: 22611.9 | C8: 100000 | D8: 80000 | E8: 100000 | F8: 100000
A9: K100005 Uređenje i dogradnja prostora i nabavka opreme i održavanje | B9: 22611.9 | C9: 100000 | D9: 80000 | E9: 100000 | F9: 100000
A10: 0712 Ostali medicinski proizvodi | B10: 22611.9 | C10: 0 | D10: 0 | E10: 0 | F10: 0
A11: izvor: 50 Pomoći | B11: 22611.9 | C11: 0 | D11: 0 | E11: 0 | F11: 0
A12: 4 Rashodi za nabavu nefinancijske imovine | B12: 22611.9 | C12: 0 | D12: 0 | E12: 0 | F12: 0
A13: 42 Rashodi za nabavu proizvedene dugotrajne imovine | B13: 22611.9 | C13: 0 | D13: 0 | E13: 0 | F13: 0
A14: 0760 Poslovi i usluge zdravstva koji nisu drugdje svrstani | B14: 0 | C14: 100000 | D14: 80000 | E14: 100000 | F14: 100000
A15: izvor: 50 Pomoći | B15: 0 | C15: 100000 | D15: 80000 | E15: 100000 | F15: 100000
A16: 4 Rashodi za nabavu nefinancijske imovine | B16: 0 | C16: 100000 | D16: 80000 | E16: 100000 | F16: 100000
... A78: 32 Materijalni rashodi | B78: 320557.45 | C78: 350000 | D78: 368732 | E78: 450000 | F78: 350000
